BEGIN:VCALENDAR
VERSION:2.0
PRODID:-//ical.marudot.com//iCal Event Maker
CALSCALE:GREGORIAN
BEGIN:VTIMEZONE
TZID:Pacific/Auckland
LAST-MODIFIED:20240422T053450Z
TZURL:https://www.tzurl.org/zoneinfo-outlook/Pacific/Auckland
X-LIC-LOCATION:Pacific/Auckland
BEGIN:DAYLIGHT
TZNAME:NZDT
TZOFFSETFROM:+1200
TZOFFSETTO:+1300
DTSTART:19700927T020000
RRULE:FREQ=YEARLY;BYMONTH=9;BYDAY=-1SU
END:DAYLIGHT
BEGIN:STANDARD
TZNAME:NZST
TZOFFSETFROM:+1300
TZOFFSETTO:+1200
DTSTART:19700405T030000
RRULE:FREQ=YEARLY;BYMONTH=4;BYDAY=1SU
END:STANDARD
END:VTIMEZONE
BEGIN:VEVENT
DTSTAMP:20250907T173937Z
UID:1757266707089-96580@ical.marudot.com
DTSTART;TZID=Pacific/Auckland:20251105T120000
DTEND;TZID=Pacific/Auckland:20251105T133000
SUMMARY:Accelerating ERP Testing with Automation:  Enable Services & Assurity Consulting
DESCRIPTION:Join us for an exclusive session exploring how Enable Services partnered with Assurity Consulting to transform ERP testing for Microsoft Dynamics Business Central.\n\nFaced with frequent upgrade cycles and a two-week testing burden on the finance team\, Enable turned to automation. Assurity delivered a cloud-based testing platform that cut testing time to just three days\, boosted software quality\, and freed up valuable team resources.\n\nHear from the experts:\n- Richard Swift\, Finance Systems Manager\, Enable Networks\n- Linda Street\, Delivery Manager\, Assurity Consulting\n- Moderated by Steve Griffin\, GM of Sales & Business Development\n\nThey’ll share firsthand insights on moving from manual bottlenecks to streamlined automation - and the real-world impact on business continuity\, team productivity\, and ROI.\n\nWhat You’ll Learn\n- How Enable reduced ERP testing time from 2 weeks to 3 days\n- The role of automation in improving software quality and minimising disruption\n- ROI insights: achieving payback in under 3 years\n- How Assurity’s platform enables repeatable\, scalable testing\n- Lessons from migrating to Business Central Cloud\n- Tips for building internal capability while leveraging external expertise\n\nWho Should Attend\nThis session is ideal for:\n- Finance Managers & CFOs looking to reduce operational overhead\n- ERP Owners & System Admins managing upgrade cycles\n- IT Leaders & CIOs driving digital transformation\n- Project Managers overseeing ERP implementations\n- Business Analysts & Testing Professionals exploring automation frameworks\n- Anyone using or considering Microsoft Dynamics Business Central or other ERP systems\n\nFree to attend – registration required to secure your seat.\n\nLunch provided for all attendees.\n\nAny questions about this event? Contact Kim Ryan at kim.ryan@assurity.co.nz or 021 377 088
LOCATION:Assurity office\, Level 2\, The Terrace\, 79-81 Cashel Street\, Christchurch 8011
TRANSP:OPAQUE
X-MICROSOFT-CDO-BUSYSTATUS:BUSY
CLASS:PRIVATE
BEGIN:VALARM
ACTION:DISPLAY
DESCRIPTION:Accelerating ERP Testing with Automation:  Enable Services & Assurity Consulting
TRIGGER:-PT1H
END:VALARM
BEGIN:VALARM
ACTION:DISPLAY
DESCRIPTION:Accelerating ERP Testing with Automation:  Enable Services & Assurity Consulting
TRIGGER:-PT30M
END:VALARM
END:VEVENT
END:VCALENDAR